BEGIN:VCALENDAR
VERSION:2.0
PRODID:researchseminars.org
CALSCALE:GREGORIAN
X-WR-CALNAME:researchseminars.org
BEGIN:VEVENT
SUMMARY:Katsuhiko Kuribayashi
DTSTART:20230517T120000Z
DTEND:20230517T140000Z
DTSTAMP:20260423T052809Z
UID:MGDS/30
DESCRIPTION:Title: <a href="https://researchseminars.org/talk/MGDS/30/">On
  the cohomology algebras of the free loop space of the real projective spa
 ce and its diffeological version</a>\nby Katsuhiko Kuribayashi as part of 
 Monthly Global Diffeology Seminar\n\nAbstract: TBA\n
LOCATION:https://researchseminars.org/talk/MGDS/30/
END:VEVENT
END:VCALENDAR
