BEGIN:VCALENDAR
VERSION:2.0
PRODID:researchseminars.org
CALSCALE:GREGORIAN
X-WR-CALNAME:researchseminars.org
BEGIN:VEVENT
SUMMARY:Yael Karshon
DTSTART:20230203T120000Z
DTEND:20230203T140000Z
DTSTAMP:20260423T052838Z
UID:MGDS/27
DESCRIPTION:Title: <a href="https://researchseminars.org/talk/MGDS/27/">Sm
 ooth maps on convex sets</a>\nby Yael Karshon as part of Monthly Global Di
 ffeology Seminar\n\nAbstract: TBA\n
LOCATION:https://researchseminars.org/talk/MGDS/27/
END:VEVENT
END:VCALENDAR
