BEGIN:VCALENDAR
VERSION:2.0
PRODID:researchseminars.org
CALSCALE:GREGORIAN
X-WR-CALNAME:researchseminars.org
BEGIN:VEVENT
SUMMARY:Mathieu Lewin (Université Paris-Dauphine)
DTSTART:20210409T083000Z
DTEND:20210409T100000Z
DTSTAMP:20260423T004912Z
UID:MEGA/22
DESCRIPTION:Title: <a href="https://researchseminars.org/talk/MEGA/22/">Mi
 ni-course: Riesz and Coulomb gases: what's known and unknown.</a>\nby Math
 ieu Lewin (Université Paris-Dauphine) as part of Séminaire MEGA\n\n\nAbs
 tract\nIn this lecture I will speak about a family of random point process
 es of Gibbs type\, on the whole d-dimensional space\, which includes many 
 examples from random matrix theory (such as GUE\, GOE and Ginibre). The po
 ints are assumed to interact by pairs through the Riesz/Coulomb potentials
 \, and a parameter playing the role of a temperature is used to adjust the
  amount of randomness. I will try to review what is expected on physical g
 round for these processes and what has been rigorously established so far.
  The talk will thus be focused on open problems.\n
LOCATION:https://researchseminars.org/talk/MEGA/22/
END:VEVENT
END:VCALENDAR
