BEGIN:VCALENDAR
VERSION:2.0
PRODID:researchseminars.org
CALSCALE:GREGORIAN
X-WR-CALNAME:researchseminars.org
BEGIN:VEVENT
SUMMARY:Marcin Napiorkowski (Warsaw)
DTSTART:20241203T131500Z
DTEND:20241203T140000Z
DTSTAMP:20260423T035757Z
UID:MAS-MP/84
DESCRIPTION:Title: <a href="https://researchseminars.org/talk/MAS-MP/84/">
 The Bogoliubov-Bose-Hubbard model: existence of minimizers and phase trans
 ition</a>\nby Marcin Napiorkowski (Warsaw) as part of Munich-Copenhagen-Sa
 ntiago Mathematical Physics seminar\n\n\nAbstract\nWe consider a variation
 al approach to the Bose-Hubbard model based on Bogoliubov theory. We intro
 duce the grand canonical and canonical free energy functional for which we
  prove the existence of minimizers. By analyzing their structure we show t
 he existence of a superfluid-Mott insulator phase transition at positive t
 emperatures. In particular\, we show that this model does not exhibit a qu
 antum phase transition. Based on joint work with Norbert Mokrzański.\n
LOCATION:https://researchseminars.org/talk/MAS-MP/84/
END:VEVENT
END:VCALENDAR
