BEGIN:VCALENDAR
VERSION:2.0
PRODID:researchseminars.org
CALSCALE:GREGORIAN
X-WR-CALNAME:researchseminars.org
BEGIN:VEVENT
SUMMARY:Pedro Freitas (Lisbon)
DTSTART:20200630T141500Z
DTEND:20200630T151500Z
DTSTAMP:20260423T021146Z
UID:MAS-MP/8
DESCRIPTION:Title: <a href="https://researchseminars.org/talk/MAS-MP/8/">E
 xtremal Robin eigenvalues: exploring the $\\alpha$-$\\lambda$ plane</a>\nb
 y Pedro Freitas (Lisbon) as part of Munich-Copenhagen-Santiago Mathematica
 l Physics seminar\n\n\nAbstract\nWe will present an overview of extremal e
 igenvalues of the Robin Laplacian. This includes recent results for low ei
 genvalues and\, time permitting\, the high-frequency behaviour and its eff
 ect on a Pólya-type conjecture. Based on joint work with Pedro Antunes\, 
 James Kennedy\, David Krejčiřík\, and Richard Laugesen.\n
LOCATION:https://researchseminars.org/talk/MAS-MP/8/
END:VEVENT
END:VCALENDAR
