BEGIN:VCALENDAR
VERSION:2.0
PRODID:researchseminars.org
CALSCALE:GREGORIAN
X-WR-CALNAME:researchseminars.org
BEGIN:VEVENT
SUMMARY:Christian Hainzl (LMU\, Germany)
DTSTART:20231023T121500Z
DTEND:20231023T131500Z
DTSTAMP:20260423T021253Z
UID:MAS-MP/62
DESCRIPTION:Title: <a href="https://researchseminars.org/talk/MAS-MP/62/">
 The LHY-formula for positive temperature Bose gases</a>\nby Christian Hain
 zl (LMU\, Germany) as part of Munich-Copenhagen-Santiago Mathematical Phys
 ics seminar\n\n\nAbstract\nWe consider a low density Bose gas interacting 
 through a repulsive potential in the thermodynamic limit. We justify\, usi
 ng upper and lower bounds\, a Lee-Huang-Yang type formula for the free ene
 rgy at suitably low temperatures. This is joint work with F. Haberberger\,
  P. T. Nam\, B. Schlein\, R. Seiringer and A. Triay.\n
LOCATION:https://researchseminars.org/talk/MAS-MP/62/
END:VEVENT
END:VCALENDAR
