BEGIN:VCALENDAR
VERSION:2.0
PRODID:researchseminars.org
CALSCALE:GREGORIAN
X-WR-CALNAME:researchseminars.org
BEGIN:VEVENT
SUMMARY:Luis Vega (BCAM Basque Center for Applied Mathematics)
DTSTART:20230515T141500Z
DTEND:20230515T151500Z
DTSTAMP:20260423T052956Z
UID:MAS-MP/58
DESCRIPTION:Title: <a href="https://researchseminars.org/talk/MAS-MP/58/">
 Fluctuations of δ -moments for the free Schrödinger Equation</a>\nby Lui
 s Vega (BCAM Basque Center for Applied Mathematics) as part of Munich-Cope
 nhagen-Santiago Mathematical Physics seminar\n\nAbstract: TBA\n
LOCATION:https://researchseminars.org/talk/MAS-MP/58/
END:VEVENT
END:VCALENDAR
