BEGIN:VCALENDAR
VERSION:2.0
PRODID:researchseminars.org
CALSCALE:GREGORIAN
X-WR-CALNAME:researchseminars.org
BEGIN:VEVENT
SUMMARY:Serena Cenatiempo (Gran Sasso)
DTSTART:20200609T141500Z
DTEND:20200609T151500Z
DTSTAMP:20260423T035737Z
UID:MAS-MP/5
DESCRIPTION:Title: <a href="https://researchseminars.org/talk/MAS-MP/5/">T
 BA</a>\nby Serena Cenatiempo (Gran Sasso) as part of Munich-Copenhagen-San
 tiago Mathematical Physics seminar\n\nAbstract: TBA\n
LOCATION:https://researchseminars.org/talk/MAS-MP/5/
END:VEVENT
END:VCALENDAR
