BEGIN:VCALENDAR
VERSION:2.0
PRODID:researchseminars.org
CALSCALE:GREGORIAN
X-WR-CALNAME:researchseminars.org
BEGIN:VEVENT
SUMMARY:Michael Levitin (University of Reading)
DTSTART:20221024T141500Z
DTEND:20221024T151500Z
DTSTAMP:20260423T021257Z
UID:MAS-MP/47
DESCRIPTION:Title: <a href="https://researchseminars.org/talk/MAS-MP/47/">
 Pólya’s conjecture for the disk: a computer-assisted proof</a>\nby Mich
 ael Levitin (University of Reading) as part of Munich-Copenhagen-Santiago 
 Mathematical Physics seminar\n\nAbstract: TBA\n
LOCATION:https://researchseminars.org/talk/MAS-MP/47/
END:VEVENT
END:VCALENDAR
