BEGIN:VCALENDAR
VERSION:2.0
PRODID:researchseminars.org
CALSCALE:GREGORIAN
X-WR-CALNAME:researchseminars.org
BEGIN:VEVENT
SUMMARY:Benjamin Schlein (Universität Zürich)
DTSTART:20221017T141500Z
DTEND:20221017T151500Z
DTSTAMP:20260423T052708Z
UID:MAS-MP/46
DESCRIPTION:Title: <a href="https://researchseminars.org/talk/MAS-MP/46/">
 Ground state energy of a gas of hard spheres in the Gross-Pitaevskii regim
 e</a>\nby Benjamin Schlein (Universität Zürich) as part of Munich-Copenh
 agen-Santiago Mathematical Physics seminar\n\nAbstract: TBA\n
LOCATION:https://researchseminars.org/talk/MAS-MP/46/
END:VEVENT
END:VCALENDAR
