BEGIN:VCALENDAR
VERSION:2.0
PRODID:researchseminars.org
CALSCALE:GREGORIAN
X-WR-CALNAME:researchseminars.org
BEGIN:VEVENT
SUMMARY:Julien Sabin (École Polytechnique)
DTSTART:20210420T141500Z
DTEND:20210420T151500Z
DTSTAMP:20260423T021241Z
UID:MAS-MP/22
DESCRIPTION:Title: <a href="https://researchseminars.org/talk/MAS-MP/22/">
 Weyl laws for singular potentials</a>\nby Julien Sabin (École Polytechniq
 ue) as part of Munich-Copenhagen-Santiago Mathematical Physics seminar\n\n
 Abstract: TBA\n
LOCATION:https://researchseminars.org/talk/MAS-MP/22/
END:VEVENT
END:VCALENDAR
