BEGIN:VCALENDAR
VERSION:2.0
PRODID:researchseminars.org
CALSCALE:GREGORIAN
X-WR-CALNAME:researchseminars.org
BEGIN:VEVENT
SUMMARY:Walter de Siqueira Pedra (Universidade de São Paulo)
DTSTART:20201117T151500Z
DTEND:20201117T161500Z
DTSTAMP:20260423T021255Z
UID:MAS-MP/16
DESCRIPTION:Title: <a href="https://researchseminars.org/talk/MAS-MP/16/">
 Large Deviations for Weakly Interacting Fermions at Equilibrium - An Appro
 ach to Macroscopic Behavior at Nanoscales</a>\nby Walter de Siqueira Pedra
  (Universidade de São Paulo) as part of Munich-Copenhagen-Santiago Mathem
 atical Physics seminar\n\nAbstract: TBA\n
LOCATION:https://researchseminars.org/talk/MAS-MP/16/
END:VEVENT
END:VCALENDAR
