BEGIN:VCALENDAR
VERSION:2.0
PRODID:researchseminars.org
CALSCALE:GREGORIAN
X-WR-CALNAME:researchseminars.org
BEGIN:VEVENT
SUMMARY:Emanuela Giacomelli (LMU)
DTSTART:20201110T151500Z
DTEND:20201110T161500Z
DTSTAMP:20260423T035819Z
UID:MAS-MP/15
DESCRIPTION:Title: <a href="https://researchseminars.org/talk/MAS-MP/15/">
 The dilute Fermi gas via Bogoliubov theory</a>\nby Emanuela Giacomelli (LM
 U) as part of Munich-Copenhagen-Santiago Mathematical Physics seminar\n\nA
 bstract: TBA\n
LOCATION:https://researchseminars.org/talk/MAS-MP/15/
END:VEVENT
END:VCALENDAR
