BEGIN:VCALENDAR
VERSION:2.0
PRODID:researchseminars.org
CALSCALE:GREGORIAN
X-WR-CALNAME:researchseminars.org
BEGIN:VEVENT
SUMMARY:John Duncan (Academia Sinica)
DTSTART:20231004T060000Z
DTEND:20231004T070000Z
DTSTAMP:20260423T035825Z
UID:MAC8028/3
DESCRIPTION:Title: <a href="https://researchseminars.org/talk/MAC8028/3/">
 A Guide to Moonshine</a>\nby John Duncan (Academia Sinica) as part of Tren
 ds in Mathematical Research\n\nLecture held in NTNU Gongguan S101.\n\nAbst
 ract\nAndrew Ogg gave a geometric description of the primes that divide th
 e order of the monster finite simple group in 1973\, and thus initiated th
 e theory of monstrous moonshine. Since then\, the pursuit of moonshine has
  illuminated powerful relationships between algebraic\, geometric and numb
 er theoretic structures. We will present an introductory overview of this 
 theory.\n
LOCATION:https://researchseminars.org/talk/MAC8028/3/
END:VEVENT
END:VCALENDAR
