BEGIN:VCALENDAR
VERSION:2.0
PRODID:researchseminars.org
CALSCALE:GREGORIAN
X-WR-CALNAME:researchseminars.org
BEGIN:VEVENT
SUMMARY:Dr. Chiun-Chuan Chen (National Taiwan University)
DTSTART:20240522T060000Z
DTEND:20240522T070000Z
DTSTAMP:20260423T021404Z
UID:MAC8028/29
DESCRIPTION:Title: <a href="https://researchseminars.org/talk/MAC8028/29/"
 >Propagating direction in the two species Lotka-Volterra competition-diffu
 sion system</a>\nby Dr. Chiun-Chuan Chen (National Taiwan University) as p
 art of Trends in Mathematical Research\n\nLecture held in NTNU Gongguan S1
 01.\n\nAbstract\nThe sign of the traveling wave speed in the two species L
 otka-Volterra competition-diffusion system under strong competition provid
 es important information about the competitive advantage of the species. T
 o study the sign problem of the speed\, we propose a mini-max characteriza
 tion of the coefficients in the reaction terms when the wave speed is zero
 . Applying our characterization\, some explicit conditions under which the
  speed sign can be determined are obtained.\n
LOCATION:https://researchseminars.org/talk/MAC8028/29/
END:VEVENT
END:VCALENDAR
