BEGIN:VCALENDAR
VERSION:2.0
PRODID:researchseminars.org
CALSCALE:GREGORIAN
X-WR-CALNAME:researchseminars.org
BEGIN:VEVENT
SUMMARY:Dr. Hao-Wei Huang (National Tsing Hua University)
DTSTART:20240515T060000Z
DTEND:20240515T070000Z
DTSTAMP:20260423T021433Z
UID:MAC8028/23
DESCRIPTION:Title: <a href="https://researchseminars.org/talk/MAC8028/23/"
 >Hadamard product of random matrices and their limiting spectral distribut
 ions</a>\nby Dr. Hao-Wei Huang (National Tsing Hua University) as part of 
 Trends in Mathematical Research\n\nLecture held in NTNU Gongguan S101.\n\n
 Abstract\nIn this talk I shall present the limiting spectral distributions
  of the Hadamard products of random matrices GUEs. In certain scenarios\, 
 the limiting spectral distributions of such random matrix models exist and
  can be described in terms of square free convolutions. One related questi
 on to square free additive convolution is to investigate when the multipli
 cative convolution of the semi-circular law and a probability law on the p
 ositive real line has a semi-circular law as a component in the free addit
 ive convolution. We shall answer this question by offering necessary and s
 ufficient conditions. This is joint work with Ming Hsiao.\n
LOCATION:https://researchseminars.org/talk/MAC8028/23/
END:VEVENT
END:VCALENDAR
