BEGIN:VCALENDAR
VERSION:2.0
PRODID:researchseminars.org
CALSCALE:GREGORIAN
X-WR-CALNAME:researchseminars.org
BEGIN:VEVENT
SUMMARY:Leland McInnes (Tutte Institute for Mathematics and Computing)
DTSTART:20220607T114500Z
DTEND:20220607T123000Z
DTSTAMP:20260423T035911Z
UID:M4CSA/7
DESCRIPTION:Title: <a href="https://researchseminars.org/talk/M4CSA/7/">UM
 AP Theory and Practice</a>\nby Leland McInnes (Tutte Institute for Mathema
 tics and Computing) as part of Mathematics for Computer Science and Applic
 ations Seminar\n\nAbstract: TBA\n
LOCATION:https://researchseminars.org/talk/M4CSA/7/
END:VEVENT
END:VCALENDAR
