BEGIN:VCALENDAR
VERSION:2.0
PRODID:researchseminars.org
CALSCALE:GREGORIAN
X-WR-CALNAME:researchseminars.org
BEGIN:VEVENT
SUMMARY:Ricardo Vinuesa (KTH Royal Institute of Technology)
DTSTART:20220517T093000Z
DTEND:20220517T110000Z
DTSTAMP:20260423T021413Z
UID:M4CSA/5
DESCRIPTION:Title: <a href="https://researchseminars.org/talk/M4CSA/5/">Mo
 delling and controlling turbulent flows through deep learning</a>\nby Rica
 rdo Vinuesa (KTH Royal Institute of Technology) as part of Mathematics for
  Computer Science and Applications Seminar\n\nAbstract: TBA\n
LOCATION:https://researchseminars.org/talk/M4CSA/5/
END:VEVENT
END:VCALENDAR
