BEGIN:VCALENDAR
VERSION:2.0
PRODID:researchseminars.org
CALSCALE:GREGORIAN
X-WR-CALNAME:researchseminars.org
BEGIN:VEVENT
SUMMARY:Irina Perfilieva (University of Ostrava)
DTSTART:20220301T103000Z
DTEND:20220301T120000Z
DTSTAMP:20260423T052757Z
UID:M4CSA/2
DESCRIPTION:Title: <a href="https://researchseminars.org/talk/M4CSA/2/">La
 place-Beltrami Operator in Hilbert 1-manifolds initiated by fuzzy partitio
 n</a>\nby Irina Perfilieva (University of Ostrava) as part of Mathematics 
 for Computer Science and Applications Seminar\n\nAbstract: TBA\n
LOCATION:https://researchseminars.org/talk/M4CSA/2/
END:VEVENT
END:VCALENDAR
