BEGIN:VCALENDAR
VERSION:2.0
PRODID:researchseminars.org
CALSCALE:GREGORIAN
X-WR-CALNAME:researchseminars.org
BEGIN:VEVENT
SUMMARY:Diana Barseghyan (University of Ostrava)
DTSTART:20220210T110000Z
DTEND:20220210T120000Z
DTSTAMP:20260423T052953Z
UID:M4CSA/1
DESCRIPTION:Title: <a href="https://researchseminars.org/talk/M4CSA/1/">Sp
 ectral geometry in a rotating frame: propeties of the ground state</a>\nby
  Diana Barseghyan (University of Ostrava) as part of Mathematics for Compu
 ter Science and Applications Seminar\n\nAbstract: TBA\n
LOCATION:https://researchseminars.org/talk/M4CSA/1/
END:VEVENT
END:VCALENDAR
