BEGIN:VCALENDAR
VERSION:2.0
PRODID:researchseminars.org
CALSCALE:GREGORIAN
X-WR-CALNAME:researchseminars.org
BEGIN:VEVENT
SUMMARY:Umut Varolgunes (Stanford University)
DTSTART:20200528T203000Z
DTEND:20200528T213000Z
DTSTAMP:20260423T041409Z
UID:M-seminar/7
DESCRIPTION:Title: <a href="https://researchseminars.org/talk/M-seminar/7/
 ">Non-archimedean mirrors of symplectic cluster manifolds in real dimensio
 n four</a>\nby Umut Varolgunes (Stanford University) as part of M-seminar\
 n\n\nAbstract\nI will start by explaining what I mean by a symplectic clus
 ter manifold focusing on how to represent them by certain combinatorial da
 ta called an eigenray diagram (4d only!). These symplectic manifolds admit
  a Lagrangian fibration over the real plane with only focus-focus singular
 ities. They do not need to have convex boundary or exact symplectic form\,
  but they are open and geometrically bounded. Eigenray diagrams are relate
 d to toric models and the relation will be briefly mentioned. Then\, using
  relative symplectic cohomology and a locality statement that relies on mo
 notonicity techniques\, I will describe conjectural mirrors of symplectic 
 cluster manifolds as certain deformed (over the Novikov field) cluster var
 ieties. This is joint work with Yoel Groman.\n
LOCATION:https://researchseminars.org/talk/M-seminar/7/
END:VEVENT
END:VCALENDAR
