BEGIN:VCALENDAR
VERSION:2.0
PRODID:researchseminars.org
CALSCALE:GREGORIAN
X-WR-CALNAME:researchseminars.org
BEGIN:VEVENT
SUMMARY:Son Ho
DTSTART:20260123T153000Z
DTEND:20260123T163000Z
DTSTAMP:20260420T025340Z
UID:LT2026/40
DESCRIPTION:Title: <a href="https://researchseminars.org/talk/LT2026/40/">
 Formal Verification of Rust Cryptographic Code in Lean with Aeneas</a>\nby
  Son Ho as part of Lean Together 2026\n\nAbstract: TBA\n
LOCATION:https://researchseminars.org/talk/LT2026/40/
END:VEVENT
END:VCALENDAR
