BEGIN:VCALENDAR
VERSION:2.0
PRODID:researchseminars.org
CALSCALE:GREGORIAN
X-WR-CALNAME:researchseminars.org
BEGIN:VEVENT
SUMMARY:Alex Kontorovich (Rutgers University)
DTSTART:20260121T200000Z
DTEND:20260121T203000Z
DTSTAMP:20260420T025128Z
UID:LT2026/29
DESCRIPTION:Title: <a href="https://researchseminars.org/talk/LT2026/29/">
 Teaching Real Analysis as a Video Game</a>\nby Alex Kontorovich (Rutgers U
 niversity) as part of Lean Together 2026\n\n\nAbstract\nWe will discuss te
 aching with Real Analysis\, The Game\, available here: https://adam.math.h
 hu.de/#/g/AlexKontorovich/RealAnalysisGame\n
LOCATION:https://researchseminars.org/talk/LT2026/29/
END:VEVENT
END:VCALENDAR
