BEGIN:VCALENDAR
VERSION:2.0
PRODID:researchseminars.org
CALSCALE:GREGORIAN
X-WR-CALNAME:researchseminars.org
BEGIN:VEVENT
SUMMARY:Antoine Mouzard (Université de Rennes 1)
DTSTART:20200518T130000Z
DTEND:20200518T133000Z
DTSTAMP:20260423T035616Z
UID:LPDD/7
DESCRIPTION:Title: <a href="https://researchseminars.org/talk/LPDD/7/">The
  continuous Anderson hamiltonian on a two-dimensional manifold</a>\nby Ant
 oine Mouzard (Université de Rennes 1) as part of Les probabilités de dem
 ain webinar\n\n\nAbstract\nWe construct the continuous Anderson hamiltonia
 n driven by a white noise on a compact two-dimensional manifold. We use th
 e paracontrolled calculus to define a dense domain that depends on an enha
 nced noise built through a renormalisation step\, in the spirit of the rec
 ent works on singular SPDEs. Using the Babuška-Lax-Milgram theorem\, it y
 ields a self-adjoint operator with pure point spectrum and we have estimat
 es for the eigenvalues.\n
LOCATION:https://researchseminars.org/talk/LPDD/7/
END:VEVENT
END:VCALENDAR
