BEGIN:VCALENDAR
VERSION:2.0
PRODID:researchseminars.org
CALSCALE:GREGORIAN
X-WR-CALNAME:researchseminars.org
BEGIN:VEVENT
SUMMARY:Tal Kachman (Radboud University)
DTSTART:20230214T190000Z
DTEND:20230214T200000Z
DTSTAMP:20260423T010357Z
UID:LNCwWH/1
DESCRIPTION:Title: <a href="https://researchseminars.org/talk/LNCwWH/1/">S
 cientific understanding from AI</a>\nby Tal Kachman (Radboud University) a
 s part of Late Night Conference with Wilhelm Huck\n\nAbstract: TBA\n
LOCATION:https://researchseminars.org/talk/LNCwWH/1/
END:VEVENT
END:VCALENDAR
