BEGIN:VCALENDAR
VERSION:2.0
PRODID:researchseminars.org
CALSCALE:GREGORIAN
X-WR-CALNAME:researchseminars.org
BEGIN:VEVENT
SUMMARY:Anita Rojas (Universidad de Chile)
DTSTART:20250424T170000Z
DTEND:20250424T180000Z
DTSTAMP:20260423T035731Z
UID:LATeN/82
DESCRIPTION:Title: <a href="https://researchseminars.org/talk/LATeN/82/">
 Álgebra y Geometría\, una interacción fructífera</a>\nby Anita Rojas (
 Universidad de Chile) as part of Coloquio Latinoamericano de Teoría de N
 úmeros\n\n\nAbstract\nNumerosos son los ejemplos de interacciones virtuos
 as entre diferentes áreas de la Matemática. En esta charla presentaremos
  una de éstas: Como la Teoría de Representaciones de grupos finitos se p
 uede utilizar para comprender aspectos de interés de los espacios de mód
 ulos de variedades abelianas y superficies de Riemann.\n
LOCATION:https://researchseminars.org/talk/LATeN/82/
END:VEVENT
END:VCALENDAR
