BEGIN:VCALENDAR
VERSION:2.0
PRODID:researchseminars.org
CALSCALE:GREGORIAN
X-WR-CALNAME:researchseminars.org
BEGIN:VEVENT
SUMMARY:Carlo Pagano (University of Glasgow/MPIM Bonn)
DTSTART:20210322T150000Z
DTEND:20210322T160000Z
DTSTAMP:20260423T022007Z
UID:LAGeNT/8
DESCRIPTION:Title: <a href="https://researchseminars.org/talk/LAGeNT/8/">O
 n the negative Pell equation</a>\nby Carlo Pagano (University of Glasgow/M
 PIM Bonn) as part of Leiden Algebra\, Geometry\, and Number Theory Seminar
 \n\n\nAbstract\nHow often does the ring of integers of a real quadratic fi
 eld have a unit with norm -1? In 1995 Peter Stevenhagen proposed a precise
  conjectural asymptotic formula describing how many such real quadratic fi
 elds should be out there when counted by discriminant. I will discuss a jo
 int upcoming work with Peter Koymans where we establish Stevenhagen's conj
 ecture.\n
LOCATION:https://researchseminars.org/talk/LAGeNT/8/
END:VEVENT
END:VCALENDAR
