BEGIN:VCALENDAR
VERSION:2.0
PRODID:researchseminars.org
CALSCALE:GREGORIAN
X-WR-CALNAME:researchseminars.org
BEGIN:VEVENT
SUMMARY:Priyanka Majumder (Darmstadt)
DTSTART:20220209T151500Z
DTEND:20220209T161500Z
DTSTAMP:20260423T021751Z
UID:LAGeNT/21
DESCRIPTION:Title: <a href="https://researchseminars.org/talk/LAGeNT/21/">
 Bounds for canonical Green’s functions of Fuchsian subgroups of PSL2(R)<
 /a>\nby Priyanka Majumder (Darmstadt) as part of Leiden Algebra\, Geometry
 \, and Number Theory Seminar\n\nAbstract: TBA\n
LOCATION:https://researchseminars.org/talk/LAGeNT/21/
END:VEVENT
END:VCALENDAR
