BEGIN:VCALENDAR
VERSION:2.0
PRODID:researchseminars.org
CALSCALE:GREGORIAN
X-WR-CALNAME:researchseminars.org
BEGIN:VEVENT
SUMMARY:Rachel Newton (University of Reading)
DTSTART:20200629T140000Z
DTEND:20200629T150000Z
DTSTAMP:20260423T021901Z
UID:LAGeNT/2
DESCRIPTION:Title: <a href="https://researchseminars.org/talk/LAGeNT/2/">E
 xplicit uniform bounds for Brauer groups of singular K3 surfaces</a>\nby R
 achel Newton (University of Reading) as part of Leiden Algebra\, Geometry\
 , and Number Theory Seminar\n\nAbstract: TBA\n
LOCATION:https://researchseminars.org/talk/LAGeNT/2/
END:VEVENT
END:VCALENDAR
