BEGIN:VCALENDAR
VERSION:2.0
PRODID:researchseminars.org
CALSCALE:GREGORIAN
X-WR-CALNAME:researchseminars.org
BEGIN:VEVENT
SUMMARY:Rosa Schwarz (Universiteit Leiden)
DTSTART:20210531T140000Z
DTEND:20210531T150000Z
DTSTAMP:20260423T005808Z
UID:LAGeNT/12
DESCRIPTION:Title: <a href="https://researchseminars.org/talk/LAGeNT/12/">
 The double-double ramification cycle</a>\nby Rosa Schwarz (Universiteit Le
 iden) as part of Leiden Algebra\, Geometry\, and Number Theory Seminar\n\n
 Abstract: TBA\n
LOCATION:https://researchseminars.org/talk/LAGeNT/12/
END:VEVENT
END:VCALENDAR
