BEGIN:VCALENDAR
VERSION:2.0
PRODID:researchseminars.org
CALSCALE:GREGORIAN
X-WR-CALNAME:researchseminars.org
BEGIN:VEVENT
SUMMARY:Anna Barbieri (University of Verona\, Italy)
DTSTART:20250129T130000Z
DTEND:20250129T140000Z
DTSTAMP:20260423T041525Z
UID:LAGOON/99
DESCRIPTION:Title: <a href="https://researchseminars.org/talk/LAGOON/99/">
 A compactification of the stability space for the Aₙ-quiver</a>\nby Anna
  Barbieri (University of Verona\, Italy) as part of Longitudinal Algebra a
 nd Geometry Open ONline Seminar (LAGOON)\n\n\nAbstract\nThe space of Bridg
 eland stability conditions is a non-compact complex manifold attached to a
  triangulated category D\, parametrizing some t-structures of the category
 . In this talk I will propose a notion of multi-scale stability conditions
  that gives a smooth compactification of an appropriate quotient of the st
 ability manifold of the Ginzburg category of type Aₙ and a partial compa
 ctification for other Ginzburg categories attached to quivers with potenti
 al from triangulated marked Riemann surfaces. Based on a joint work with M
 . Möller and J. So.\n\nhttps://uni-koeln.zoom.us/j/91875528987?pwd=US8wdj
 NrWjl5dXNQSVRzREhoRE1PUT09\n\nMeeting ID: 918 7552 8987 Password: LAGOON\n
LOCATION:https://researchseminars.org/talk/LAGOON/99/
END:VEVENT
END:VCALENDAR
