BEGIN:VCALENDAR
VERSION:2.0
PRODID:researchseminars.org
CALSCALE:GREGORIAN
X-WR-CALNAME:researchseminars.org
BEGIN:VEVENT
SUMMARY:Evgeny Shinder (University of Sheffield\, UK)
DTSTART:20201126T120000Z
DTEND:20201126T130000Z
DTSTAMP:20260423T022933Z
UID:LAGOON/25
DESCRIPTION:Title: <a href="https://researchseminars.org/talk/LAGOON/25/">
 Birationality centers\, rationality problems and Cremona groups</a>\nby Ev
 geny Shinder (University of Sheffield\, UK) as part of Longitudinal Algebr
 a and Geometry Open ONline Seminar (LAGOON)\n\n\nAbstract\nI will introduc
 e a framework to account for the ambiguity of stable birational types of a
  sequence of centers for birational transformations. I will explain in whi
 ch settings the introduced invariants are nonvanishing\, and give applicat
 ions to the structure of Cremona groups over various fields. This is joint
  work in progress with Hsueh-Yung Lin and Susanna Zimmermann.\n\nMeeting L
 ink\nhttps://us02web.zoom.us/j/89958893469?pwd=aWFWQXZnMXczUFdJc282bWx3bE5
 Idz09\nMeeting ID: 899 5889 3469\nPasscode: Lagoon\n
LOCATION:https://researchseminars.org/talk/LAGOON/25/
END:VEVENT
END:VCALENDAR
