BEGIN:VCALENDAR
VERSION:2.0
PRODID:researchseminars.org
CALSCALE:GREGORIAN
X-WR-CALNAME:researchseminars.org
BEGIN:VEVENT
SUMMARY:Fabrizio Catanese (University of Bayreuth\, Germany)
DTSTART:20201015T110000Z
DTEND:20201015T120000Z
DTSTAMP:20260423T005754Z
UID:LAGOON/20
DESCRIPTION:Title: <a href="https://researchseminars.org/talk/LAGOON/20/">
 Topologically trivial automorphisms of compact Kähler surfaces and manifo
 lds</a>\nby Fabrizio Catanese (University of Bayreuth\, Germany) as part o
 f Longitudinal Algebra and Geometry Open ONline Seminar (LAGOON)\n\n\nAbst
 ract\nThe abstract can be downloaded here: \nhttps://drive.google.com/file
 /d/1B6aZ-46iUgPic9YJyJ5lGnr2MsvP3lvl/view\n
LOCATION:https://researchseminars.org/talk/LAGOON/20/
END:VEVENT
END:VCALENDAR
