BEGIN:VCALENDAR
VERSION:2.0
PRODID:researchseminars.org
CALSCALE:GREGORIAN
X-WR-CALNAME:researchseminars.org
BEGIN:VEVENT
SUMMARY:Markus Reineke (Universität Bochum\, Germany)
DTSTART:20200716T120000Z
DTEND:20200716T130000Z
DTSTAMP:20260423T022934Z
UID:LAGOON/10
DESCRIPTION:Title: <a href="https://researchseminars.org/talk/LAGOON/10/">
 Fano quiver moduli</a>\nby Markus Reineke (Universität Bochum\, Germany) 
 as part of Longitudinal Algebra and Geometry Open ONline Seminar (LAGOON)\
 n\n\nAbstract\nWe construct a large class of quiver moduli spaces with are
  Fano varieties\, by studying global sections of line bundles on quiver mo
 duli and identifying a special class of stabilities. We discuss several cl
 asses of examples (e.g. toric varieties\, point configuration spaces\, Kro
 necker moduli).\n
LOCATION:https://researchseminars.org/talk/LAGOON/10/
END:VEVENT
END:VCALENDAR
