BEGIN:VCALENDAR
VERSION:2.0
PRODID:researchseminars.org
CALSCALE:GREGORIAN
X-WR-CALNAME:researchseminars.org
BEGIN:VEVENT
SUMMARY:Farhad Babaee (U. Bristol)
DTSTART:20220311T140000Z
DTEND:20220311T150000Z
DTSTAMP:20260423T035456Z
UID:LAGARTOS/39
DESCRIPTION:Title: <a href="https://researchseminars.org/talk/LAGARTOS/39/
 ">Dynamic tropicalisation</a>\nby Farhad Babaee (U. Bristol) as part of (L
 AGARTOS) Latin American Real and Tropical Geometry Seminar\n\n\nAbstract\n
 It is well-known that not every tropical variety can be lifted to an algeb
 raic subvariety of the complex torus. However\, any tropical variety can b
 e lifted to a current to obtain the associated complex tropical current. C
 omplex tropical currents have proved to be useful in complex geometry\, an
 d they can also appear as certain limits in complex dynamics. This dynamic
 s provides a natural picture of tropicalisation (with respect to the trivi
 al valuation)\, which we explain in this talk.\n
LOCATION:https://researchseminars.org/talk/LAGARTOS/39/
END:VEVENT
END:VCALENDAR
