BEGIN:VCALENDAR
VERSION:2.0
PRODID:researchseminars.org
CALSCALE:GREGORIAN
X-WR-CALNAME:researchseminars.org
BEGIN:VEVENT
SUMMARY:Giada Grossi (Université Sorbonne Paris Nord)
DTSTART:20210115T093000Z
DTEND:20210115T103000Z
DTSTAMP:20260423T041621Z
UID:LAGA-AGAA/4
DESCRIPTION:Title: <a href="https://researchseminars.org/talk/LAGA-AGAA/4/
 ">The p-part of BSD for rational elliptic curves at Eisenstein primes</a>\
 nby Giada Grossi (Université Sorbonne Paris Nord) as part of Séminaire d
 e géométrie arithmétique et motivique (Paris Nord)\n\n\nAbstract\nLet E
  be an elliptic curve over the rationals and p an odd prime such that\nE a
 dmits a rational p-isogeny satisfying some assumptions. In a joint work\nw
 ith F. Castella\, J. Lee and C. Skinner\, we study the anticyclotomic\nIwa
 sawa theory for E/K for some suitable quadratic imaginary field K.\nI will
  explain our strategy and how our results\, combined with complex and\np-a
 dic Gross-Zagier formulae\, allow us to prove a p-converse to the theorem\
 nof Gross-Zagier and Kolyvagin and the p-part of the Birch-Swinnerton-Dyer
 \nformula in analytic rank 1.\n
LOCATION:https://researchseminars.org/talk/LAGA-AGAA/4/
END:VEVENT
END:VCALENDAR
