BEGIN:VCALENDAR
VERSION:2.0
PRODID:researchseminars.org
CALSCALE:GREGORIAN
X-WR-CALNAME:researchseminars.org
BEGIN:VEVENT
SUMMARY:Kang Zuo (Wuhan University)
DTSTART:20250418T070000Z
DTEND:20250418T080000Z
DTSTAMP:20260423T022831Z
UID:KyuDaiSem/7
DESCRIPTION:Title: <a href="https://researchseminars.org/talk/KyuDaiSem/7/
 ">Anabelian Geometry and p-adic Simpson correspondence</a>\nby Kang Zuo (W
 uhan University) as part of Kyushu University Algebra Seminar\n\nLecture h
 eld in Room C-513 in the West No. 1 Bldg. of Ito Campus.\nAbstract: TBA\n
LOCATION:https://researchseminars.org/talk/KyuDaiSem/7/
END:VEVENT
END:VCALENDAR
