BEGIN:VCALENDAR
VERSION:2.0
PRODID:researchseminars.org
CALSCALE:GREGORIAN
X-WR-CALNAME:researchseminars.org
BEGIN:VEVENT
SUMMARY:Alex Maloney (McGill)
DTSTART:20200914T183000Z
DTEND:20200914T193000Z
DTSTAMP:20260423T005845Z
UID:Kadanoff/9
DESCRIPTION:Title: <a href="https://researchseminars.org/talk/Kadanoff/9/"
 >Gravity from Averaging CFTs</a>\nby Alex Maloney (McGill) as part of Kada
 noff seminars\n\n\nAbstract\nI will explore the idea that certain theories
  of gravity in Anti-de Sitter space are dual to an average over an ensembl
 e of quantum theories\, rather than to a specific quantum theory.  I will 
 describe an average over Narain’s family of two-dimensional conformal fi
 eld theories which describe free bosons on a torus\, and compute the parti
 tion function using the Siegel-Weil formula.  The result takes the form of
  a sum over geometries as one would expect in a theory of gravity.  But th
 e gravitational theory looks more like a Chern-Simons theory than like Ein
 stein gravity.\n
LOCATION:https://researchseminars.org/talk/Kadanoff/9/
END:VEVENT
END:VCALENDAR
