BEGIN:VCALENDAR
VERSION:2.0
PRODID:researchseminars.org
CALSCALE:GREGORIAN
X-WR-CALNAME:researchseminars.org
BEGIN:VEVENT
SUMMARY:Shagnik Das (National Taiwan University)
DTSTART:20220311T020000Z
DTEND:20220311T030000Z
DTSTAMP:20260423T022004Z
UID:KTV/2
DESCRIPTION:Title: <a href="https://researchseminars.org/talk/KTV/2/">Schu
 r's Theorem for randomly perturbed sets</a>\nby Shagnik Das (National Taiw
 an University) as part of Korea-Taiwan-Vietnam joint seminar in Combinator
 ics and Analysis\n\nLecture held in ZOOM.\nAbstract: TBA\n
LOCATION:https://researchseminars.org/talk/KTV/2/
END:VEVENT
END:VCALENDAR
