BEGIN:VCALENDAR
VERSION:2.0
PRODID:researchseminars.org
CALSCALE:GREGORIAN
X-WR-CALNAME:researchseminars.org
BEGIN:VEVENT
SUMMARY:Dabeen Lee (Korea Advanced Institute of Science & Technology\, Kor
 ea)
DTSTART:20230303T070000Z
DTEND:20230303T090000Z
DTSTAMP:20260423T022141Z
UID:KTV/19
DESCRIPTION:Title: <a href="https://researchseminars.org/talk/KTV/19/">Non
 -smooth\, Holder-smooth\, and Robust Submodular Maximization.</a>\nby Dabe
 en Lee (Korea Advanced Institute of Science & Technology\, Korea) as part 
 of Korea-Taiwan-Vietnam joint seminar in Combinatorics and Analysis\n\nLec
 ture held in ZOOM.\nAbstract: TBA\n
LOCATION:https://researchseminars.org/talk/KTV/19/
END:VEVENT
END:VCALENDAR
