BEGIN:VCALENDAR
VERSION:2.0
PRODID:researchseminars.org
CALSCALE:GREGORIAN
X-WR-CALNAME:researchseminars.org
BEGIN:VEVENT
SUMMARY:Naser Sardari (Max Planck Institute for Mathematics)
DTSTART:20201203T220000Z
DTEND:20201203T230000Z
DTSTAMP:20260423T005848Z
UID:JNTS/9
DESCRIPTION:Title: <a href="https://researchseminars.org/talk/JNTS/9/">Van
 ishing Fourier coefficients of Hecke eigenforms</a>\nby Naser Sardari (Max
  Planck Institute for Mathematics) as part of Columbia CUNY NYU number the
 ory seminar\n\n\nAbstract\nWe prove that\, for fixed level~$(N\,p) = 1$ an
 d prime~$p > 2$\, there are only finitely many Hecke eigenforms~$f$ of lev
 el~$\\Gamma_1(N)$ and even weight with~$a_p(f) = 0$ (p-th Fourier coeffici
 ent) which are not CM. This is joint work with Frank Calegari.\n
LOCATION:https://researchseminars.org/talk/JNTS/9/
END:VEVENT
END:VCALENDAR
