BEGIN:VCALENDAR
VERSION:2.0
PRODID:researchseminars.org
CALSCALE:GREGORIAN
X-WR-CALNAME:researchseminars.org
BEGIN:VEVENT
SUMMARY:Elena Fuchs & Kristin Lauter (UC Davis & Facebook AI Research)
DTSTART:20211202T223000Z
DTEND:20211202T233000Z
DTSTAMP:20260423T024018Z
UID:JNTS/31
DESCRIPTION:Title: <a href="https://researchseminars.org/talk/JNTS/31/">Cr
 yptographic hash functions from Markoff triples</a>\nby Elena Fuchs & Kris
 tin Lauter (UC Davis & Facebook AI Research) as part of Columbia CUNY NYU 
 number theory seminar\n\n\nAbstract\nIn this talk\, we discuss how mod-$p$
  Markoff graphs can be used to construct cryptographic hash functions. We 
 present potential path finding algorithms in these graphs\, which will als
 o lead to questions about lifts of mod $p$ solutions to the Markoff equati
 on will come up as well. This is joint work with M. Litman and A. Tran\, a
 s well as with E. Bellah and L. Ye.\n
LOCATION:https://researchseminars.org/talk/JNTS/31/
END:VEVENT
END:VCALENDAR
