BEGIN:VCALENDAR
VERSION:2.0
PRODID:researchseminars.org
CALSCALE:GREGORIAN
X-WR-CALNAME:researchseminars.org
BEGIN:VEVENT
SUMMARY:Kiran Kedlaya (UC San Diego)
DTSTART:20210408T210000Z
DTEND:20210408T220000Z
DTSTAMP:20260423T040812Z
UID:JNTS/20
DESCRIPTION:Title: <a href="https://researchseminars.org/talk/JNTS/20/">BA
 NACH BUNDLES</a>\nby Kiran Kedlaya (UC San Diego) as part of Columbia CUNY
  NYU number theory seminar\n\n\nAbstract\nTate's theory of rigid analytic 
 spaces includes a theory of coherent\nsheaves described by Kiehl. We descr
 ibe an extension of this\nconstruction to what we call ``Banach bundles" o
 n rigid analytic spaces\,\nand more general adic spaces such as perfectoid
  spaces\; this builds upon\nprevious work with Ruochuan Liu. As an applica
 tion\, we obtain a\nGAGA-style theorem for vector bundles on a product of 
 Fargues-Fontaine\ncurves.\n
LOCATION:https://researchseminars.org/talk/JNTS/20/
END:VEVENT
END:VCALENDAR
