BEGIN:VCALENDAR
VERSION:2.0
PRODID:researchseminars.org
CALSCALE:GREGORIAN
X-WR-CALNAME:researchseminars.org
BEGIN:VEVENT
SUMMARY:Vivian Kuperberg (Stanford)
DTSTART:20211204T183000Z
DTEND:20211204T191500Z
DTSTAMP:20260423T005754Z
UID:JNTD2021/4
DESCRIPTION:Title: <a href="https://researchseminars.org/talk/JNTD2021/4/"
 >Odd moments in the distribution of primes.</a>\nby Vivian Kuperberg (Stan
 ford) as part of Johns Hopkins Junior Number Theory Days 2021\n\nLecture h
 eld in Gilman 132\, Johns Hopkins University Homewood Campus.\nAbstract: T
 BA\n
LOCATION:https://researchseminars.org/talk/JNTD2021/4/
END:VEVENT
END:VCALENDAR
