BEGIN:VCALENDAR
VERSION:2.0
PRODID:researchseminars.org
CALSCALE:GREGORIAN
X-WR-CALNAME:researchseminars.org
BEGIN:VEVENT
SUMMARY:Si Ying Lee (Harvard)
DTSTART:20211204T151500Z
DTEND:20211204T160000Z
DTSTAMP:20260423T005809Z
UID:JNTD2021/2
DESCRIPTION:Title: <a href="https://researchseminars.org/talk/JNTD2021/2/"
 >Eichler–Shimura relations</a>\nby Si Ying Lee (Harvard) as part of John
 s Hopkins Junior Number Theory Days 2021\n\nLecture held in Gilman 132\, J
 ohns Hopkins University Homewood Campus.\nAbstract: TBA\n
LOCATION:https://researchseminars.org/talk/JNTD2021/2/
END:VEVENT
END:VCALENDAR
