BEGIN:VCALENDAR
VERSION:2.0
PRODID:researchseminars.org
CALSCALE:GREGORIAN
X-WR-CALNAME:researchseminars.org
BEGIN:VEVENT
SUMMARY:Jize Yu (IAS)
DTSTART:20201204T190000Z
DTEND:20201204T194500Z
DTSTAMP:20260423T005755Z
UID:JNTD2020/5
DESCRIPTION:Title: <a href="https://researchseminars.org/talk/JNTD2020/5/"
 >A geometric Jacquet–Langlands transfer via geometric Satake equivalence
 </a>\nby Jize Yu (IAS) as part of Johns Hopkins Junior Number Theory Days 
 2020\n\nAbstract: TBA\n
LOCATION:https://researchseminars.org/talk/JNTD2020/5/
END:VEVENT
END:VCALENDAR
