BEGIN:VCALENDAR
VERSION:2.0
PRODID:researchseminars.org
CALSCALE:GREGORIAN
X-WR-CALNAME:researchseminars.org
BEGIN:VEVENT
SUMMARY:Razan Taha (Purdue)
DTSTART:20201204T170000Z
DTEND:20201204T174500Z
DTSTAMP:20260423T005756Z
UID:JNTD2020/4
DESCRIPTION:Title: <a href="https://researchseminars.org/talk/JNTD2020/4/"
 >P-adic measures for reciprocals of L-functions of totally real fields</a>
 \nby Razan Taha (Purdue) as part of Johns Hopkins Junior Number Theory Day
 s 2020\n\nAbstract: TBA\n
LOCATION:https://researchseminars.org/talk/JNTD2020/4/
END:VEVENT
END:VCALENDAR
