BEGIN:VCALENDAR
VERSION:2.0
PRODID:researchseminars.org
CALSCALE:GREGORIAN
X-WR-CALNAME:researchseminars.org
BEGIN:VEVENT
SUMMARY:Samuel Mundy (Columbia)
DTSTART:20201205T190000Z
DTEND:20201205T194500Z
DTSTAMP:20260423T024755Z
UID:JNTD2020/13
DESCRIPTION:Title: <a href="https://researchseminars.org/talk/JNTD2020/13/
 ">The Skinner–Urban method and the symmetric cube Bloch–Kato conjectur
 e</a>\nby Samuel Mundy (Columbia) as part of Johns Hopkins Junior Number T
 heory Days 2020\n\nAbstract: TBA\n
LOCATION:https://researchseminars.org/talk/JNTD2020/13/
END:VEVENT
END:VCALENDAR
