BEGIN:VCALENDAR
VERSION:2.0
PRODID:researchseminars.org
CALSCALE:GREGORIAN
X-WR-CALNAME:researchseminars.org
BEGIN:VEVENT
SUMMARY:Caleb Springer (Penn State)
DTSTART:20201205T150000Z
DTEND:20201205T154500Z
DTSTAMP:20260423T024838Z
UID:JNTD2020/10
DESCRIPTION:Title: <a href="https://researchseminars.org/talk/JNTD2020/10/
 ">Abelian varieties and their endomorphism rings</a>\nby Caleb Springer (P
 enn State) as part of Johns Hopkins Junior Number Theory Days 2020\n\nAbst
 ract: TBA\n
LOCATION:https://researchseminars.org/talk/JNTD2020/10/
END:VEVENT
END:VCALENDAR
