BEGIN:VCALENDAR
VERSION:2.0
PRODID:researchseminars.org
CALSCALE:GREGORIAN
X-WR-CALNAME:researchseminars.org
BEGIN:VEVENT
SUMMARY:Stephane Geudens (KU Leuven)
DTSTART:20210504T080000Z
DTEND:20210504T082500Z
DTSTAMP:20260423T023938Z
UID:JGPW2021/6
DESCRIPTION:Title: <a href="https://researchseminars.org/talk/JGPW2021/6/"
 >The Poisson saturation of regular submanifolds</a>\nby Stephane Geudens (
 KU Leuven) as part of Junior Global Poisson Workshop II\n\n\nAbstract\nI w
 ill talk about a class of submanifolds in Poisson geometry\, which are def
 ined in terms of a constant rank condition. Their main feature is the fact
  that their local Poisson saturation is smooth. I will give a normal form 
 for the Poisson structure on the local saturation\, and discuss some conse
 quences.\n
LOCATION:https://researchseminars.org/talk/JGPW2021/6/
END:VEVENT
END:VCALENDAR
